BEGIN:VCALENDAR
VERSION:2.0
PRODID:-//StartUpNV - ECPv6.14.2//NONSGML v1.0//EN
CALSCALE:GREGORIAN
METHOD:PUBLISH
X-WR-CALNAME:StartUpNV
X-ORIGINAL-URL:https://startupnv.org
X-WR-CALDESC:Events for StartUpNV
REFRESH-INTERVAL;VALUE=DURATION:PT1H
X-Robots-Tag:noindex
X-PUBLISHED-TTL:PT1H
BEGIN:VTIMEZONE
TZID:America/Los_Angeles
BEGIN:DAYLIGHT
TZOFFSETFROM:-0800
TZOFFSETTO:-0700
TZNAME:PDT
DTSTART:20230312T100000
END:DAYLIGHT
BEGIN:STANDARD
TZOFFSETFROM:-0700
TZOFFSETTO:-0800
TZNAME:PST
DTSTART:20231105T090000
END:STANDARD
END:VTIMEZONE
BEGIN:VTIMEZONE
TZID:UTC
BEGIN:STANDARD
TZOFFSETFROM:+0000
TZOFFSETTO:+0000
TZNAME:UTC
DTSTART:20230101T000000
END:STANDARD
END:VTIMEZONE
BEGIN:VEVENT
DTSTART;TZID=America/Los_Angeles:20230809T140000
DTEND;TZID=America/Los_Angeles:20230809T160000
DTSTAMP:20260421T073650
CREATED:20230725T232301Z
LAST-MODIFIED:20230725T232755Z
UID:10000046-1691589600-1691596800@startupnv.org
SUMMARY:StartUpNV | Pitch Day for $100k
DESCRIPTION:This is a hybrid event- we will be live on Zoom and in Las Vegas at the International Innovation Center.
URL:https://startupnv.org/event/startupnv-pitch-day-for-100k-2/
LOCATION:StartUpNV\, International Innovation Center @ Vegas\, 89101\, Las Vegas
END:VEVENT
BEGIN:VEVENT
DTSTART;TZID=UTC:20230727T120000
DTEND;TZID=UTC:20230727T133000
DTSTAMP:20260421T073650
CREATED:20230608T011757Z
LAST-MODIFIED:20230608T011757Z
UID:10000042-1690459200-1690464600@startupnv.org
SUMMARY:StartUpNV | Founder University | Manufacturing & Product Validation with Peter Ciulla
DESCRIPTION:
URL:https://startupnv.org/event/startupnv-founder-university-manufacturing-product-validation-with-peter-ciulla/
LOCATION:StartUpNV\, International Innovation Center @ Vegas\, 89101\, Las Vegas
END:VEVENT
BEGIN:VEVENT
DTSTART;TZID=America/Los_Angeles:20230726T140000
DTEND;TZID=America/Los_Angeles:20230726T160000
DTSTAMP:20260421T073650
CREATED:20230724T231917Z
LAST-MODIFIED:20230724T231917Z
UID:10000044-1690380000-1690387200@startupnv.org
SUMMARY:StartUpNV | Pitch Day for $100k
DESCRIPTION:This is a hybrid event- we will be live on Zoom and in Las Vegas at the International Innovation Center. \nOn Wednesday\, July 26th\, we will be hearing pitches from SkyDrop and Nectis\, a drone-based delivery system and a plant-based nourishment provider. \nZoom Link: https://us02web.zoom.us/j/83774437705
URL:https://startupnv.org/event/startupnv-pitch-day-for-100k/
LOCATION:StartUpNV\, International Innovation Center @ Vegas\, 89101\, Las Vegas
END:VEVENT
BEGIN:VEVENT
DTSTART;TZID=UTC:20230720T120000
DTEND;TZID=UTC:20230720T133000
DTSTAMP:20260421T073650
CREATED:20230608T011635Z
LAST-MODIFIED:20230608T011635Z
UID:10000041-1689854400-1689859800@startupnv.org
SUMMARY:StartUpNV | Founder University | Supply Chain & Inventory Management with Robyn Brunscher
DESCRIPTION:
URL:https://startupnv.org/event/startupnv-founder-university-supply-chain-inventory-management-with-robyn-brunscher/
LOCATION:StartUpNV\, International Innovation Center @ Vegas\, 89101\, Las Vegas
END:VEVENT
BEGIN:VEVENT
DTSTART;TZID=UTC:20230713T120000
DTEND;TZID=UTC:20230713T133000
DTSTAMP:20260421T073650
CREATED:20230608T011422Z
LAST-MODIFIED:20230608T011422Z
UID:10000040-1689249600-1689255000@startupnv.org
SUMMARY:StartUpNV | Founder University | Product Creation with Bill Reny
DESCRIPTION:
URL:https://startupnv.org/event/startupnv-founder-university-product-creation-with-bill-reny/
LOCATION:StartUpNV\, International Innovation Center @ Vegas\, 89101\, Las Vegas
END:VEVENT
BEGIN:VEVENT
DTSTART;TZID=UTC:20230713T120000
DTEND;TZID=UTC:20230713T130000
DTSTAMP:20260421T073650
CREATED:20230504T015832Z
LAST-MODIFIED:20230504T020145Z
UID:10000030-1689249600-1689253200@startupnv.org
SUMMARY:StartUpNV | Founder University: Creating a Product and Calculating Costs
DESCRIPTION:Creating a Product and Calculating Costs | 12:00pm – 1:00pm \nPresented by Bill Reny \n———– \nHosted on in person and on Zoom! The zoom link is in your ticket confirmation\, and will also be sent on the Sunday and Wednesday before the event. \nWe encourage you to attend in person\, at the International Innovation Center@Vegas. Address: 300 S. 4th St. Suite 180\, Las Vegas\, NV 89101 \n\n\nLOCATION\nInternational Innovation Center @ Vegas\, 89101
URL:https://startupnv.org/event/startupnv-founder-university-creating-a-product-and-calculating-costs/
LOCATION:StartUpNV\, International Innovation Center @ Vegas\, 89101\, Las Vegas
END:VEVENT
BEGIN:VEVENT
DTSTART;TZID=UTC:20230627T173000
DTEND;TZID=UTC:20230627T200000
DTSTAMP:20260421T073650
CREATED:20230616T230415Z
LAST-MODIFIED:20230616T230415Z
UID:10000043-1687887000-1687896000@startupnv.org
SUMMARY:StartUpNV | Could Angel Investing Fit In Your Broader Financial Picture?
DESCRIPTION:If you meet certain criteria as an “accredited investor\,” angel investing in new companies could be a great next step to get involved with your local community\, enjoy learning about new sectors\, and (potentially!) to grow your personal wealth. \nJoin us for a relaxed\, enjoyable evening to learn more about angel investing and how you can get involved here in Las Vegas: \nCould Angel Investing Fit In Your Broader Financial Picture? \nCaitlyn Driehorst\, Founding Advisor\, RightWise Wealth \nStart Local\, Start Now: Opportunities with AngelNV\, The1864 Fund\, and FundNV \nJeff Saling\, Founder and CEO\, AngelNV \nPanel Q&A with Experienced Local Angel Investors \nMyisha Boyce (StartupNV)\, Lauren Anderson (All-In Recruiting)\, Jason Koch\, Leith Martin \nComplimentary happy hour to follow \nWhile all are welcome\, this event is most relevant to individuals and households who meet the SEC’s criteria as “accredited investors”: \n● “Earned income that exceeded $200\,000 (or $300\,000 together with a spouse or spousal equivalent) in each of the prior two years\, and reasonably expects the same for the current year\, OR \n● “Has a net worth over $1 million\, either alone or together with a spouse or spousal equivalent (excluding the value of the person’s primary residence)\, OR \n● “Holds in good standing a Series 7\, 65 or 82 license.” \nWe encourage attendees to familiarize themselves with these exact requirements in advance by referencing the SEC’s official definition as published on www.investor.gov.
URL:https://startupnv.org/event/startupnv-could-angel-investing-fit-in-your-broader-financial-picture/
LOCATION:StartUpNV\, International Innovation Center @ Vegas\, 89101\, Las Vegas
END:VEVENT
BEGIN:VEVENT
DTSTART;TZID=UTC:20230622T120000
DTEND;TZID=UTC:20230622T130000
DTSTAMP:20260421T073650
CREATED:20230504T015630Z
LAST-MODIFIED:20230504T015720Z
UID:10000029-1687435200-1687438800@startupnv.org
SUMMARY:StartUpNV | Founder University: Brand Creation
DESCRIPTION:Brand Creation | 12:00pm – 1:00pm \nPresented by Liz Goodgold \n———– \nHosted on in person and on Zoom! The zoom link is in your ticket confirmation\, and will also be sent on the Sunday and Wednesday before the event. \nWe encourage you to attend in person\, at the International Innovation Center@Vegas. Address: 300 S. 4th St. Suite 180\, Las Vegas\, NV 89101 \n\n\nLOCATION\nInternational Innovation Center @ Vegas\, 89101 \n  \nhttps://www.tickettailor.com/events/startupnv/897563 \n  \n 
URL:https://startupnv.org/event/startupnv-founder-university-marketing-channels-advertising-and-social-media-marketing-2/
LOCATION:StartUpNV\, International Innovation Center @ Vegas\, 89101\, Las Vegas
END:VEVENT
BEGIN:VEVENT
DTSTART;TZID=UTC:20230615T120000
DTEND;TZID=UTC:20230615T130000
DTSTAMP:20260421T073650
CREATED:20230504T015518Z
LAST-MODIFIED:20230613T032706Z
UID:10000028-1686830400-1686834000@startupnv.org
SUMMARY:StartUpNV | Founder University: Marketing Channels\, Advertising and Social Media Marketing
DESCRIPTION:Marketing Channels + Social Media for Startups – The Good\, The Bad and the Ugly| 12:30pm – 1:00pm \nPresented by Ben Laifsky \nHow can founders use social media to raise their startup’s profile\, attract customers and investments? We’ll explore the tactics that work and the things to avoid on your path to success. Learn practical tips on how to use social media to grow your startup. \nBen Laifsky is the founder and CEO of Hunter Marketing\, a Las Vegas marketing agency that has been helping startups and businesses of all sizes for over 10 years. He is an executive board member of the Las Vegas Innovation Marketing Association. He is also the founder of Tech.Vegas\, Network.Vegas and Create.Vegas\, focusing on fostering community in the Las Vegas Valley. \n———– \nHosted on in person and on Zoom! The zoom link is in your ticket confirmation\, and will also be sent on the Sunday and Wednesday before the event. \nWe encourage you to attend in person\, at the International Innovation Center@Vegas. Address: 300 S. 4th St. Suite 180\, Las Vegas\, NV 89101 \n\nLOCATION\nInternational Innovation Center @ Vegas\, 89101 \nhttps://www.tickettailor.com/events/startupnv/849451
URL:https://startupnv.org/event/startupnv-founder-university-marketing-channels-advertising-and-social-media-marketing/
LOCATION:StartUpNV\, International Innovation Center @ Vegas\, 89101\, Las Vegas
END:VEVENT
BEGIN:VEVENT
DTSTART;TZID=UTC:20230601T120000
DTEND;TZID=UTC:20230601T130000
DTSTAMP:20260421T073650
CREATED:20230504T015233Z
LAST-MODIFIED:20230504T015233Z
UID:10000027-1685620800-1685624400@startupnv.org
SUMMARY:StartUpNV | Founder University: Internal and Outsourced Sales
DESCRIPTION:Internal Sales | 12:00pm – 12:30pm \nPresented by Michael Lofton \nExternal Sales | 12:30pm – 1:00pm \nPresented by Michael Jacobs \n———– \nHosted on in person and on Zoom! The zoom link is in your ticket confirmation\, and will also be sent on the Sunday and Wednesday before the event. \nWe encourage you to attend in person\, at the International Innovation Center@Vegas. Address: 300 S. 4th St. Suite 180\, Las Vegas\, NV 89101 \n\n\nLOCATION\nInternational Innovation Center @ Vegas\, 89101 \n  \nhttps://www.tickettailor.com/events/startupnv/849444
URL:https://startupnv.org/event/startupnv-founder-university-internal-and-outsourced-sales/
LOCATION:StartUpNV\, International Innovation Center @ Vegas\, 89101\, Las Vegas
END:VEVENT
BEGIN:VEVENT
DTSTART;TZID=UTC:20230511T120000
DTEND;TZID=UTC:20230511T130000
DTSTAMP:20260421T073650
CREATED:20230504T013905Z
LAST-MODIFIED:20230821T064911Z
UID:10000024-1683806400-1683810000@startupnv.org
SUMMARY:StartUpNV Founder University: TAM SAM SOM & Competitor Insight
DESCRIPTION:TAM SAM SOM\, and Understanding your Competitors | 12:00pm – 1:00pm \nPresenter: Maggie Saling \n———– \nHosted on in person and on Zoom! The zoom link is in your ticket confirmation\, and will also be sent on the Sunday and Wednesday before the event. \nWe encourage you to attend in person\, at the International Innovation Center@Vegas. Address: 300 S. 4th St. Suite 180\, Las Vegas\, NV 89101 \n\n\nLOCATION\nInternational Innovation Center @ Vegas\, 89101
URL:https://startupnv.org/event/startupnv-founder-university-tam-sam-som-and-understanding-your-competitors/
LOCATION:StartUpNV\, International Innovation Center @ Vegas\, 89101\, Las Vegas
END:VEVENT
BEGIN:VEVENT
DTSTART;TZID=UTC:20230506T120000
DTEND;TZID=UTC:20230506T170000
DTSTAMP:20260421T073650
CREATED:20230503T235926Z
LAST-MODIFIED:20230504T012451Z
UID:10000021-1683374400-1683392400@startupnv.org
SUMMARY:StartUpNV | IncubateVegas | Inaugural Demo Day
DESCRIPTION:Join us for an exciting event\, the IncubateVegas Inaugural Demo Day\, on Saturday\, May 6th at noon\, as we showcase our first cohort of IncubateVegas founders! This event will take place at the International Innovation Center @ Vegas\, located at 300 S 4th Street\, Suite 180\, Las Vegas\, NV 89101. \nDuring the event\, each graduating company will present a 6-minute pitch\, followed by a few questions from investors and experts. Guests will also enjoy food and drinks while getting to know the companies and entrepreneurs in our community. \nIncubateVegas is a 10-week program by StartUpNV aimed at empowering first-time entrepreneurs and disadvantaged small businesses in Clark County\, Nevada. Our mission is to help local entrepreneurs build high-growth companies by providing them with the necessary tools and skills for success. Throughout the program\, IncubateVegas founders have benefited from access to coworking facilities\, mentorship\, and hands-on workshops. \nJoin us in supporting our local entrepreneurial ecosystem and meeting the emerging new companies in our community. We can’t wait to see you there! \n\n\nLOCATION\nInternational Innovation Center @ Vegas\, 89101
URL:https://startupnv.org/event/startupnv-incubatevegas-inaugural-demo-day/
LOCATION:StartUpNV\, International Innovation Center @ Vegas\, 89101\, Las Vegas
END:VEVENT
BEGIN:VEVENT
DTSTART;TZID=UTC:20230429T173000
DTEND;TZID=UTC:20230429T190000
DTSTAMP:20260421T073650
CREATED:20230404T030800Z
LAST-MODIFIED:20230821T062529Z
UID:10000019-1682789400-1682794800@startupnv.org
SUMMARY:StartUpNV IncubateVegas: Introductory Pitch Deck with Faye Almeshaan
DESCRIPTION:Topic: Creating an Introductory (1o minute) Pitch Deck \nSpeaker: Faye Almeshaan \nRegister Here! \n 
URL:https://startupnv.org/event/incubatevegas-creating-an-introductory-pitch-deck-with-faye-almeshaan/
LOCATION:StartUpNV\, International Innovation Center @ Vegas\, 89101\, Las Vegas
END:VEVENT
BEGIN:VEVENT
DTSTART;TZID=UTC:20230428T170000
DTEND;TZID=UTC:20230428T190000
DTSTAMP:20260421T073650
CREATED:20230316T064910Z
LAST-MODIFIED:20230821T064752Z
UID:10000008-1682701200-1682708400@startupnv.org
SUMMARY:StartUpNV: Social Media 'Growth Hacking' Sip & Learn
DESCRIPTION:Join us for a Sip & Learn with Jamie Collyer and learn how to use social media tools and strategies to “Growth Hack” your Startup! \nWhat You Will Learn: \nIn this session\, Jamie will share her insights and strategies on growth hacking garnered from her long professional career in tech and entrepreneurism. At this session\, she will speak to founders on how to use resource-light and cost-effective digital marketing tactics to help grow and retain an active user base\, sell products\, and gain exposure. \nJamie will address these key topics: \n\nWhat is “Growth Hacking”\nWhat are the typical tools and platforms used?\nMeasuring ROI on strategies.\nThinking outside of the marketing box.\nAnd more…\n\nAbout Jamie \nEntrepreneur\, Sr. Tech Operations\, Social Marketing\, and Web3.0 Educator & Advocate \nFrom vegan beauty products to Tesla ridesharing to Virtual Reality\, Jamie Collyer has been hooked on startup life for 15+ years. Her colorful career spans the west coast Tech hubs of Seattle & Silicon Valley while building high-growth teams in product & design. Now 10 years into Vegas life with her daughter Josie\, Ms. Collyer is delighted to be a part of the continued growth of both the Downtown and Vegas Tech/Startup communities. Former Microsoft\, former Amazon\, and former metaverse recruiter\, Ms. Collyer decided to launch her own company in 2022 to build the future of food on earth using sustainable “Smart” micro farms to create global solutions.In addition to being a plant based mom of an Arbor View Aggie\, Jamie is an advocate for web3.0 education and works closely with the Vegas Tech community to inform users of new technologies with more secure options. \n  \nEvent Details: \nDoors open at 5:00 pm\, and the speaker starts at 5:45 pm. \nFree parking is available at the Historic 5th St School\, accessed on 4th\, just north of Clark. The Innovation Center is 1.5 blocks north on the opposite side of the street. \nAppetizers and drinks will be served. \n  \nCan’t Make it In Person? We are Livestreaming this Event!\n \n\n\nLOCATION\nInternational Innovation Center @ Vegas\, 89101
URL:https://startupnv.org/event/leveraging-social-media-to-growth-hack-your-startup-las-vegas-sip-learn/
LOCATION:StartUpNV\, International Innovation Center @ Vegas\, 89101\, Las Vegas
END:VEVENT
BEGIN:VEVENT
DTSTART;TZID=UTC:20230422T173000
DTEND;TZID=UTC:20230422T190000
DTSTAMP:20260421T073650
CREATED:20230404T025512Z
LAST-MODIFIED:20230406T064823Z
UID:10000016-1682184600-1682190000@startupnv.org
SUMMARY:StartUpNV | Incubate Vegas | "The Business Model Canvas"
DESCRIPTION:Topic: The Business Model Canvas \nSpeaker: TBD \nRegister here! \n 
URL:https://startupnv.org/event/incubate-vegas-the-business-model-canvas/
LOCATION:StartUpNV\, International Innovation Center @ Vegas\, 89101\, Las Vegas
END:VEVENT
BEGIN:VEVENT
DTSTART;TZID=UTC:20230415T173000
DTEND;TZID=UTC:20230415T190000
DTSTAMP:20260421T073650
CREATED:20230404T024230Z
LAST-MODIFIED:20230821T062635Z
UID:10000014-1681579800-1681585200@startupnv.org
SUMMARY:StartUpNV IncubateVegas: Demand Generation Plan with Darrell Evans
DESCRIPTION:Topic:  Creating a Demand Generation Marketing Plan \nSpeaker: Darrell Evans \nRegister here!
URL:https://startupnv.org/event/incubatevegas-creating-a-demand-generation-marketing-plan-with-darrell-evans/
LOCATION:StartUpNV\, International Innovation Center @ Vegas\, 89101\, Las Vegas
END:VEVENT
BEGIN:VEVENT
DTSTART;TZID=UTC:20230408T173000
DTEND;TZID=UTC:20230408T190000
DTSTAMP:20260421T073650
CREATED:20230404T022639Z
LAST-MODIFIED:20230821T062241Z
UID:10000012-1680975000-1680980400@startupnv.org
SUMMARY:StartUpNV IncubateVegas: Defining Target Market with Maggie Saling
DESCRIPTION:Topic: Researching and Defining the Target Market (TAM/SAM/SOM) \nSpeaker: Maggie Saling \nRegistration: https://share.hsforms.com/143dJg9ALRdi7OWC8FlKadQ1em26 \nZoom: https://us02web.zoom.us/j/85807333905
URL:https://startupnv.org/event/incubatevegas-researching-and-defining-the-target-market-with-maggie-saling/
LOCATION:StartUpNV\, International Innovation Center @ Vegas\, 89101\, Las Vegas
END:VEVENT
BEGIN:VEVENT
DTSTART;TZID=UTC:20230310T173000
DTEND;TZID=UTC:20230310T190000
DTSTAMP:20260421T073650
CREATED:20230221T022124Z
LAST-MODIFIED:20230821T065254Z
UID:10000004-1678469400-1678474800@startupnv.org
SUMMARY:StartUpNV: Value Creation Communication - Las Vegas Sip & Learn
DESCRIPTION:Vegas Sip & Learn\, Wednesday\, March 8th\nFounders and Startup Community!\nBuy tickets here. \nJoin us for a Sip & Learn with Andy Abramson and learn how to create branding value for your startup! \nIn this session\, veteran entrepreneur and branding expert\, Andy Abramson will share his insight with entrepreneurs on how to create value messaging and branding for their startups! \nWhat You Will Learn: \nValue Creation Communication is all about telling your story to the audiences that matter so it can be told and retold. With a focus on customers\, ecosystem partners\, and investors/acquirers\, Value Creation Communications directly impacts \nbusiness marketability and\, in reality\, the founder’s ability to sell more\, work with more partners\, and command a higher valuation\nwhen acquired than others in their peer group. \nCome out to Down Town Las Vegas\, grab a drink\, network with other entrepreneurs\, and learn how to take your venture to the next level! \nAbout Andy: \nThroughout his career\, Andy Abramson has been involved in all facets of marketing communications and the digital world through his marketing services agency\, Comunicano\, which operates globally as an all-virtual agency. Since 2000\, Andy and his company\, Comunicano\, have propelled 56 company exits in the fintech\, web\, Internet\, mobile\, telecom\, media\, pharma\, financial services\, and IT infrastructure sectors\, generating more than $6 billion for the investors\, founders\, and employees via M&A or IPOs. \nMore impressive than the numbers are who has done the acquiring. Google and Vonage each have acquired two\, while eBay\, IBM\, Cisco\, Nokia\, Yahoo\, Symantec\, Logitech\, Citrix\, RIM\, and Computer Associates are some of the more recognizable names. With a career that started in pro-sports\, Andy was one of the creators of the most successful fan development programs in professional sports with the Philadelphia Flyers\, helped increase the value of a professional sports team leading to the sale of the Denver Nuggets\, and built one of the most respected sports marketing programs with The Upper Deck Company. \nHe followed all that up to establish Comunicano\, to bring value to startups and companies in transition the world over. \nEvent Details: \nDoors open at 5:00 pm\, and the speaker starts at 5:45 pm. \nFree parking is available at the Historic 5th St School\, accessed on 4th\, just north of Clark. The Innovation Center is 1.5 blocks north on the opposite side of the street. \nAppetizers and drinks will be served. \n\n\nLOCATION\nInternational Innovation Center @ Vegas\, 89101 \nBuy tickets here! 
URL:https://startupnv.org/event/value-creation-communication-for-startups-las-vegas-sip-learn/
LOCATION:StartUpNV\, International Innovation Center @ Vegas\, 89101\, Las Vegas
ATTACH;FMTTYPE=image/png:https://startupnv.org/wp-content/uploads/2023/04/Sip-and-Learn-by-Andy-Abramson.png
END:VEVENT
END:VCALENDAR