BEGIN:VCALENDAR
VERSION:2.0
PRODID:-//StartUpNV - ECPv6.14.2//NONSGML v1.0//EN
CALSCALE:GREGORIAN
METHOD:PUBLISH
X-WR-CALNAME:StartUpNV
X-ORIGINAL-URL:https://startupnv.org
X-WR-CALDESC:Events for StartUpNV
REFRESH-INTERVAL;VALUE=DURATION:PT1H
X-Robots-Tag:noindex
X-PUBLISHED-TTL:PT1H
BEGIN:VTIMEZONE
TZID:America/Los_Angeles
BEGIN:DAYLIGHT
TZOFFSETFROM:-0800
TZOFFSETTO:-0700
TZNAME:PDT
DTSTART:20250309T100000
END:DAYLIGHT
BEGIN:STANDARD
TZOFFSETFROM:-0700
TZOFFSETTO:-0800
TZNAME:PST
DTSTART:20251102T090000
END:STANDARD
END:VTIMEZONE
BEGIN:VEVENT
DTSTART;VALUE=DATE:20250917
DTEND;VALUE=DATE:20250921
DTSTAMP:20260420T222927
CREATED:20250810T085737Z
LAST-MODIFIED:20250810T085759Z
UID:10001752-1758067200-1758412799@startupnv.org
SUMMARY:Startup Week Las Vegas
DESCRIPTION:Startup Week Las Vegas\n4 days dedicated to designers\, developers and entrepreneurs who wish to share ideas\, form connections and join a thriving ecosystem. \nRegister to attend!  \n\n\nLearn\, Network\, & Startup\n\n\n\n\nStartup Week is a four-day\, entrepreneur-led\, community event held in cities across the world to showcase the local startup ecosystem through meetups\, lectures\, discussions\, and celebrations. \nCheck out the agenda here.
URL:https://startupnv.org/event/startupweeklasvegas/
ATTACH;FMTTYPE=image/png:https://startupnv.org/wp-content/uploads/2025/08/startupweeklasv.png
END:VEVENT
END:VCALENDAR