BEGIN:VCALENDAR
VERSION:2.0
PRODID:-//StartUpNV - ECPv6.14.2//NONSGML v1.0//EN
CALSCALE:GREGORIAN
METHOD:PUBLISH
X-WR-CALNAME:StartUpNV
X-ORIGINAL-URL:https://startupnv.org
X-WR-CALDESC:Events for StartUpNV
REFRESH-INTERVAL;VALUE=DURATION:PT1H
X-Robots-Tag:noindex
X-PUBLISHED-TTL:PT1H
BEGIN:VTIMEZONE
TZID:America/Los_Angeles
BEGIN:DAYLIGHT
TZOFFSETFROM:-0800
TZOFFSETTO:-0700
TZNAME:PDT
DTSTART:20250309T100000
END:DAYLIGHT
BEGIN:STANDARD
TZOFFSETFROM:-0700
TZOFFSETTO:-0800
TZNAME:PST
DTSTART:20251102T090000
END:STANDARD
END:VTIMEZONE
BEGIN:VEVENT
DTSTART;TZID=America/Los_Angeles:20250910T173000
DTEND;TZID=America/Los_Angeles:20250910T193000
DTSTAMP:20260420T191048
CREATED:20250910T172944Z
LAST-MODIFIED:20250924T200548Z
UID:10001622-1757525400-1757532600@startupnv.org
SUMMARY:StartUp Pitch Day for $500k @ StartUpNV | Virtual & In-Person
DESCRIPTION:Details\nJoin us every other Wednesday evening to see and hear two Nevada startups pitch for investment. \nJoin us for Pitch Day at 300 S Fourth Street. Please feel free to come early\, anytime after 5pm\, for a tour of the space and to grab a drink and mingle before the pitches begin promptly at 5:30pm.  \nABOUT PITCH DAY\nInvestors: Nevada-certified and SEC-accredited investors are encouraged to attend. \nNew to Las Vegas? “Pitch day for $500k” is a great way to meet others in the local startup community. \nFounders and Community Members: This event is open to the public/community and offers a unique opportunity to learn about raising capital. \nDESCRIPTION OF THE EVENT:\nAttend in-person or online.\nTwo pre-vetted founders pitch to the FundNV investment committee for consideration of entry into the StartUpNV accelerator program and an investment of $200k to $1M (average of $500k since 2021).\nEach founder will present for 10 minutes\, followed by 15 minutes of Q&A moderated by the StartUpNV team. \nAttendees may submit questions via chat for moderators to ask.\nThe companies are selected in advance and meet all requirements to pitch to the Investment Committees and FundNV investors.\nTo meet the criteria to pitch startups must be: \n\nLargely based in Nevada\nScalable and venture investment-worthy\nActively seeking to raise a pre-seed or seed-stage capital\nFounder(s) are working full-time on the startup\nCompany has a product/service selling (or beta) in the market\nVetted by SNV pitch review process to ensure all required topics are covered and the above requirements are met\n\nInterested in pitching your startup? Please visit the following link to complete an application to pitch at [https://startupnv.org/booking/](www.strtupnv.org/booking/).\nTo check out past pitches\, please subscribe to our YouTube Channel at https://www.youtube.com/startupnv.\nFor more general information about our programs\, visit our website at https://startupnv.org/. \nEVENT DETAILS | In-Person Location (rotates between):\n300 S Fourth Street \nTo attend online\, join the Zoom Meeting:\nhttps://us02web.zoom.us/j/85280605472\nLearn more about AccelerateNV\nApply to pitch\nSubscribe to newsletter\nPitch Day Zoom Link
URL:https://startupnv.org/event/startup-pitch-day-for-500k-startupnv-virtual-in-person-2/2025-09-10/
LOCATION:StartUpNV\, International Innovation Center @ Vegas\, 89101\, Las Vegas
ATTACH;FMTTYPE=image/png:https://startupnv.org/wp-content/uploads/2025/02/Pitch-Day-General-2025.png
END:VEVENT
END:VCALENDAR